BEGIN:VCALENDAR
VERSION:2.0
PRODID:-//Central Florida BOAF - ECPv6.15.18//NONSGML v1.0//EN
CALSCALE:GREGORIAN
METHOD:PUBLISH
X-ORIGINAL-URL:https://cfboaf.net
X-WR-CALDESC:Events for Central Florida BOAF
REFRESH-INTERVAL;VALUE=DURATION:PT1H
X-Robots-Tag:noindex
X-PUBLISHED-TTL:PT1H
BEGIN:VTIMEZONE
TZID:America/New_York
BEGIN:DAYLIGHT
TZOFFSETFROM:-0500
TZOFFSETTO:-0400
TZNAME:EDT
DTSTART:20240310T070000
END:DAYLIGHT
BEGIN:STANDARD
TZOFFSETFROM:-0400
TZOFFSETTO:-0500
TZNAME:EST
DTSTART:20241103T060000
END:STANDARD
BEGIN:DAYLIGHT
TZOFFSETFROM:-0500
TZOFFSETTO:-0400
TZNAME:EDT
DTSTART:20250309T070000
END:DAYLIGHT
BEGIN:STANDARD
TZOFFSETFROM:-0400
TZOFFSETTO:-0500
TZNAME:EST
DTSTART:20251102T060000
END:STANDARD
BEGIN:DAYLIGHT
TZOFFSETFROM:-0500
TZOFFSETTO:-0400
TZNAME:EDT
DTSTART:20260308T070000
END:DAYLIGHT
BEGIN:STANDARD
TZOFFSETFROM:-0400
TZOFFSETTO:-0500
TZNAME:EST
DTSTART:20261101T060000
END:STANDARD
END:VTIMEZONE
BEGIN:VEVENT
DTSTART;TZID=America/New_York:20251112T090000
DTEND;TZID=America/New_York:20251112T113000
DTSTAMP:20260422T120842
CREATED:20250107T161309Z
LAST-MODIFIED:20250918T131222Z
UID:507-1762938000-1762947000@cfboaf.net
SUMMARY:November CEU Training / Monthly Meeting
DESCRIPTION:Chapter meetings are the 2nd Wednesday of every month at Greater Orlando Builders Association (GOBA). \nJoin the meeting virtually via Zoom here \nSteven Mihailoff – Territory Sales Manager NE/Central FL \nSimpson Strong-Tie Training Class \nsmihailoff@strongtie.com \nhttps://www.strongtie.com/
URL:https://cfboaf.net/event/november-ceu-training-monthly-meeting/
LOCATION:Greater Orlando Builders Association (GOBA)\, 1953 Clayton Heritage Way\, Maitland\, FL\, 32751\, United States
CATEGORIES:Meeting,Training
ATTACH;FMTTYPE=image/png:https://cfboaf.net/wp-content/uploads/sites/20/2025/01/ICC_Meeting-C2WEbO.tmp_.png
END:VEVENT
END:VCALENDAR